BEGIN:VCALENDAR
VERSION:2.0
PRODID:-//wp-events-plugin.com//7.2.3.1//EN
TZID:America/Los_Angeles
X-WR-TIMEZONE:America/Los_Angeles
BEGIN:VEVENT
UID:78@coastfork.org
DTSTART:20230428T000000Z
DTEND:20230428T000000Z
DTSTAMP:20230428T175343Z
URL:https://www.coastfork.org/events/the-cfwwc-2022-annual-report-is-here/
SUMMARY:The CFWWC 2022 Annual Report is here!
DESCRIPTION:\n\n&nbsp\;\n\n&nbsp\;\n\n&nbsp\;\n\n2022 was a busy year\, ful
 l of changes. We added new staff\, new events\, and new projects too! Dive
  into our 2022 Annual Report to see what we were up to last year.\n\nThank
  you everyone\, for all of your continued support!
ATTACH;FMTTYPE=image/jpeg:https://www.coastfork.org/wp-content/uploads/202
 3/04/1.jpg
CATEGORIES:Announcements
END:VEVENT
END:VCALENDAR