BEGIN:VCALENDAR
VERSION:2.0
PRODID:-//wp-events-plugin.com//7.2.3.1//EN
TZID:America/Los_Angeles
X-WR-TIMEZONE:America/Los_Angeles
BEGIN:VEVENT
UID:39@coastfork.org
DTSTART:20200316T000000Z
DTEND:20200415T000000Z
DTSTAMP:20230307T184547Z
URL:https://www.coastfork.org/events/list-of-canceled-events-due-to-covid-
 19/
SUMMARY:LIST OF CANCELED EVENTS DUE TO COVID-19
DESCRIPTION:As more information comes to light\, this list may be updated.
ATTACH;FMTTYPE=image/jpeg:https://www.coastfork.org/wp-content/uploads/202
 0/03/COVID19_EventCancelationNotice.jpg
CATEGORIES:Announcements,Community Outreach
END:VEVENT
END:VCALENDAR