BEGIN:VCALENDAR
VERSION:2.0
PRODID:-//wp-events-plugin.com//7.2.3.1//EN
TZID:America/Los_Angeles
X-WR-TIMEZONE:America/Los_Angeles
BEGIN:VEVENT
UID:130@coastfork.org
DTSTART:20260426T080000Z
DTEND:20260426T100000Z
DTSTAMP:20260423T183715Z
URL:https://www.coastfork.org/events/coast-fork-birders-walks-april/
SUMMARY:Coast Fork Birders - Walk this Weekend
DESCRIPTION:Fellow birders\, mark your calendar for another bird walk!\n\nJ
 oin Stewart Samuels this Sunday from 8:00 am to 10:00 am at Garden Lake Pa
 rk in Creswell: 390 Melton Rd\, Creswell\, OR 97426\n\nAll levels of birde
 rs are welcome. This walk is on a bark covered path. There is a restroom b
 uilding at this park. Birders are encouraged to bring their own binoculars
 .\n\nAfter morning birding\, move over to nearby Holt Park for Creswell's 
 Arbor Day event.\n\nThe Creswell Arbor Day Celebration is happening Sunday
 \, April 26th from 11:00 am to 2:00 pm at Holt Park. This event hopes to h
 ost multiple vendors that will provide\, either free of charge or for a sm
 all fee\, Bat Houses\, Bird Houses\, Bee and Gardening information\, child
  face painting\, and free food with both meat and vegetarian options provi
 ded by the Sanipac Duck Food Truck\, and more. There will also be live mus
 ic provided by Peter Osborne and his band.
ATTACH;FMTTYPE=image/jpeg:https://www.coastfork.org/wp-content/uploads/202
 6/04/BirdingWalksEvents2026_SpringUpdatesApril_Maysm.jpg
CATEGORIES:Community Outreach
LOCATION:Garden Lake Park\, Melton Road\, Creswell\, oregon\, 97426\, Unite
 d States
GEO:43.92190271741508;-123.00906876347653
X-APPLE-STRUCTURED-LOCATION;VALUE=URI;X-ADDRESS=Melton Road\, Creswell\, or
 egon\, 97426\, United States;X-APPLE-RADIUS=100;X-TITLE=Garden Lake Park:g
 eo:43.92190271741508,-123.00906876347653
END:VEVENT
END:VCALENDAR