BEGIN:VCALENDAR
VERSION:2.0
PRODID:-//wp-events-plugin.com//7.2.3.1//EN
TZID:America/Los_Angeles
X-WR-TIMEZONE:America/Los_Angeles
BEGIN:VEVENT
UID:107@coastfork.org
DTSTART:20250502T000000Z
DTEND:20250502T000000Z
DTSTAMP:20250502T220741Z
URL:https://www.coastfork.org/events/cfwwcs-2024-annual-report-is-here/
SUMMARY:CFWWC's 2024 Annual Report is Here!
DESCRIPTION:While 2024 was not without its challenges\, we are excited to s
 hare with you our successes and ongoing stewardship endeavors. This past y
 ear Coast Fork Willamette Watershed Council (CFWWC) completed an instream 
 project replacing multiple undersized culverts with bridges\, restoring hi
 storic fish passages\, continued oak prairie and upland habitat restoratio
 ns\, and undertook new and continuing riparian restorations at numerous pr
 oject sites within our watershed. Public outreach and education continued 
 to grow throughout 2024. The last year also saw us work to sustain and inc
 rease a project portfolio utilizing diverse funding partners\, making CFWW
 C more resilient and adaptable in an ever-changing funding landscape.\n\n2
 024 Annual Report
ATTACH;FMTTYPE=image/jpeg:https://www.coastfork.org/wp-content/uploads/202
 5/05/2024-Annual-Report-Title-Page.png
CATEGORIES:Announcements
END:VEVENT
END:VCALENDAR