BEGIN:VCALENDAR
VERSION:2.0
PRODID:-//wp-events-plugin.com//7.2.3.1//EN
TZID:America/Los_Angeles
X-WR-TIMEZONE:America/Los_Angeles
BEGIN:VEVENT
UID:36@coastfork.org
DTSTART:20200509T080000Z
DTEND:20200509T100000Z
DTSTAMP:20200213T214156Z
URL:https://www.coastfork.org/events/bikes-to-blooms-wildflower-event-morn
 ing-bird-walk-saturday-may-9th-8-10am/
SUMMARY:Bikes to Blooms Wildflower Event Morning Bird Walk\, Saturday\, May
  9th 8-10am
DESCRIPTION:Join the Coast Fork Birders at the annual Bikes to Blooms W
 ildflower Event for a morning bird walk on International Migratory Bird Da
 y. Bikes to Blooms is a free\, educational event that features activities 
 for families and nature enthusiasts\, including guided wildflower walks\, 
 stewardship opportunities\, educational booths hosted by local organizatio
 ns and a morning bird walk at 8am. The bird walk will be on unpaved flat 
 terrain. Travel southeast of Cottage Grove and experience this ecologicall
 y valuable and scenic landscape and to see the southern Willamette Valley 
 in bloom. More information can be found on the CFWWC Facebook Event Pa
 ge. https://www.facebook.com/events/2905527186176471/
ATTACH;FMTTYPE=image/jpeg:https://www.coastfork.org/wp-content/uploads/202
 0/02/83671014_3404722656269319_3113716466281611264_o.jpg
CATEGORIES:Community Outreach
END:VEVENT
END:VCALENDAR