BEGIN:VCALENDAR
VERSION:2.0
PRODID:-//wp-events-plugin.com//7.2.3.1//EN
TZID:America/Los_Angeles
X-WR-TIMEZONE:America/Los_Angeles
BEGIN:VEVENT
UID:127@coastfork.org
DTSTART:20260509T080000Z
DTEND:20260509T130000Z
DTSTAMP:20260330T154440Z
URL:https://www.coastfork.org/events/bikes-to-blooms-may-9th/
SUMMARY:Bikes to Blooms - May 9th
DESCRIPTION:Get ready for the 10th annual Bikes to Blooms wildflower event\
 , on Saturday\, May 9th.\n\nThis year\, Bikes to Blooms is hosted in partn
 ership with the Coast Fork Willamette Watershed Council\, U.S. Army Corps 
 of Engineers\, Bureau of Land Management\, Walama Restoration Project\, Na
 tive Plant Society of Oregon\, Eugene Chapter of the North American Butter
 fly Association\, Willamette Resources and Educational Network (WREN)\, an
 d Dorena Genetic Resource Center.\n\nWhat to Expect: Discover spring wildf
 lowers in bloom at Bikes to Blooms on Saturday\, May 9th from 8 am-1 pm at
  Bake Stewart Park! With a local expert as your guide\, you’re invited t
 o explore a rare\, remnant prairie and oak habitat along Dorena Lake and t
 he Row River bike trail. Bikes to Blooms is a free event featuring activit
 ies for families and nature enthusiasts\, including a morning bird walk\, 
 guided and self-guided wildflower walks\, and educational booths hosted by
  local organizations. \n\nTravel southeast of Cottage Grove and experienc
 e this ecologically valuable and scenic landscape and see the southern Wil
 lamette Valley in bloom. May is bike month! This a great opportunity to en
 joy the Row River bike path\, and parking is limited\, so consider bringin
 g your wheels! \n\nThis is a sensitive environment\, especially during th
 e wildflower season. Please be mindful that any pets present need to be on
 -leash and well-behaved at all times.\n\nWhere:  Bake Stewart Park\, Row 
 River Rd.\, Dorena (12 mi. east of Cottage Grove)\n\nEvent Schedule (Rain 
 or Shine): \n\n8 am – Guided Bird Walk \n\n9 am - 1 pm – Booths Open &
 amp\; Self-Guided Wildflower Walk Materials Available\n\n10 am\, 11 am\, &
 amp\; 12 pm - Guided Wildflower Walks                
ATTACH;FMTTYPE=image/jpeg:https://www.coastfork.org/wp-content/uploads/202
 6/03/2026-Bikes-to-Blooms-FlyerDraft.png
CATEGORIES:Community Outreach
LOCATION:Bake Stewart Park\, Row River Road\, Dorena\, Oregon\, United Stat
 es
GEO:43.789643;-122.958316
X-APPLE-STRUCTURED-LOCATION;VALUE=URI;X-ADDRESS=Row River Road\, Dorena\, O
 regon\, United States;X-APPLE-RADIUS=100;X-TITLE=Bake Stewart Park:geo:43.
 789643,-122.958316
END:VEVENT
END:VCALENDAR