BEGIN:VCALENDAR
VERSION:2.0
PRODID:-//wp-events-plugin.com//7.2.3.1//EN
TZID:America/Los_Angeles
X-WR-TIMEZONE:America/Los_Angeles
BEGIN:VEVENT
UID:114@coastfork.org
DTSTART:20251205T180000Z
DTEND:20251205T210000Z
DTSTAMP:20251201T174403Z
URL:https://www.coastfork.org/events/2025-winter-watershed-soiree/
SUMMARY:2025 Winter Watershed Soirée
DESCRIPTION:Your Favorite Year-End Celebration is Almost Here\nEach year us
  CFWWC folks look forward to properly saying thank you to all of you that 
 helped us make the year a success.\n\n\n&nbsp\;\n\n&nbsp\;\n\n&nbsp\;\n\n&
 nbsp\;\n\nJoin us for a night of fun\, food\, and celebration at Coast Fo
 rk Brewing - Brewstation and Feed. This cozy evening will be filled with d
 elicious drinks\, scrumptious Hawaiian-inspired food\, great company\, and
  live music. This is the perfect opportunity to mingle with fellow nature 
 enthusiasts and support our local watershed. Don't miss out on this unforg
 ettable event!\n\nTickets Are On Sale Now!\n\nMore about this Annual Event
ATTACH;FMTTYPE=image/jpeg:https://www.coastfork.org/wp-content/uploads/202
 5/09/Winter-Watershed-Soiree.png
CATEGORIES:Announcements
LOCATION:Coast Fork Brewing\, 106 South Sixth Street\, Cottage Grove\, Oreg
 on\, 97424\, United States
GEO:43.795996;-123.061691
X-APPLE-STRUCTURED-LOCATION;VALUE=URI;X-ADDRESS=106 South Sixth Street\, Co
 ttage Grove\, Oregon\, 97424\, United States;X-APPLE-RADIUS=100;X-TITLE=Co
 ast Fork Brewing:geo:43.795996,-123.061691
END:VEVENT
END:VCALENDAR