BEGIN:VCALENDAR
VERSION:2.0
PRODID:-//wp-events-plugin.com//7.2.3.1//EN
TZID:America/Los_Angeles
X-WR-TIMEZONE:America/Los_Angeles
BEGIN:VEVENT
UID:112@coastfork.org
DTSTART:20250820T000000Z
DTEND:20250820T000000Z
DTSTAMP:20250820T190145Z
URL:https://www.coastfork.org/events/2024-working-lands-annual-report/
SUMMARY:2024 Working Lands Annual Report
DESCRIPTION: The purpose of the Upper Willamette Working Lands program is 
 to support farmers\, ranchers\, and other working land managers as they at
 tempt to adapt to and mitigate the impacts of climate change. Toward this 
 end\, we are pursuing several strategies designed to catalyze the adoption
  of regenerative agriculture as a standard practice for local farmers and 
 ranchers.\n\n\n\nThe program objectives focus on developing the role of fa
 rm manager as land steward\, and supporting these individuals in accessing
  information\, skills development\, and resources for adopting best manage
 ment practices and on-farm conservation.\n\nRead the full report here.
ATTACH;FMTTYPE=image/jpeg:https://www.coastfork.org/wp-content/uploads/202
 5/08/2024-2025-Working-Lands-Annual-Report-1_Page_01.jpg
CATEGORIES:Announcements
END:VEVENT
END:VCALENDAR