BEGIN:VCALENDAR
VERSION:2.0
PRODID:-//wp-events-plugin.com//7.2.3.1//EN
TZID:America/Los_Angeles
X-WR-TIMEZONE:America/Los_Angeles
BEGIN:VEVENT
UID:89@coastfork.org
DTSTART;TZID=America/Los_Angeles:20241206T180000
DTEND;TZID=America/Los_Angeles:20241206T210000
DTSTAMP:20250213T164142Z
URL:https://www.coastfork.org/events/2024-winter-watershed-soiree/
SUMMARY:2024 Winter Watershed Soirée
DESCRIPTION:\nGet ready to chill out and have a blast at the 2024 Winter W
 atershed Soiree - it's going to be a night to remember!\nGet Your Tickets 
 Now!\nJoin us for a night of winter wonder at the Winter Watershed Soiré
 e 2024! Get ready to sip\, savor\, and socialize at Coast Fork Brewing - 
 Brewstation and Feed. This in-person event promises an evening filled with
  good vibes\, great brews\, and delicious bites. Immerse yourself in the c
 ozy atmosphere as you enjoy live music\, mingle with friends\, celebrate w
 ith our project partners\, and indulge in the finest craft beers and cockt
 ails. Don't miss out on this unforgettable soirée - mark your calendars n
 ow!\n\nDinner: This year's options are Manicotti\, Lasagna\, or Chicken Pa
 rmesan. Make sure to pick your option when purchasing your ticket.\n\nWine
  Wall: $20 for each bottle – (Participate online or at the event)\n\nDe
 ssert Auction: Bid for your favorite Dessert (Event only).\n\nSilent Auct
 ion: There will be something for every price range. Items not picked up b
 y 5 p.m. on December 9th (without arrangement before December 12th) will g
 o to the next highest bidder.\n\nWatershed Awards: Recognizing those who 
 helped us get through the year!\n\nWhile we encourage attendees to dress u
 p for the event (cocktail attire)\, we will be excited to see you however 
 you are most comfortable!
ATTACH;FMTTYPE=image/jpeg:https://www.coastfork.org/wp-content/uploads/202
 4/09/Invitation_SaveDate_Sm.jpg
CATEGORIES:Announcements,Community Outreach
LOCATION:Coast Fork Brewing\, 106 South Sixth Street\, Cottage Grove\, Oreg
 on\, 97424\, United States
GEO:43.795996;-123.061691
X-APPLE-STRUCTURED-LOCATION;VALUE=URI;X-ADDRESS=106 South Sixth Street\, Co
 ttage Grove\, Oregon\, 97424\, United States;X-APPLE-RADIUS=100;X-TITLE=Co
 ast Fork Brewing:geo:43.795996,-123.061691
END:VEVENT
BEGIN:VTIMEZONE
TZID:America/Los_Angeles
X-LIC-LOCATION:America/Los_Angeles
BEGIN:STANDARD
DTSTART:20241103T010000
TZOFFSETFROM:-0700
TZOFFSETTO:-0800
TZNAME:PST
END:STANDARD
END:VTIMEZONE
END:VCALENDAR