BEGIN:VCALENDAR
VERSION:2.0
PRODID:-//wp-events-plugin.com//7.2.3.1//EN
TZID:America/Los_Angeles
X-WR-TIMEZONE:America/Los_Angeles
BEGIN:VEVENT
UID:43@coastfork.org
DTSTART:20201001T000000Z
DTEND:20201231T000000Z
DTSTAMP:20230307T184521Z
URL:https://www.coastfork.org/events/2020-year-end-fundraising-help-us-rea
 ch-our-goal/
SUMMARY:2020 Year End Fundraising - Help Us Reach Our Goal
DESCRIPTION:\nThis year is unlike any and that means we need to be adaptive
  with our year end fundraising. We will be taking the Soiree virtual this 
 year but also extending our fundraising timeline from now until the end of
  2020 to ensure we can reach our goal. These funds are essential for us ma
 king 2021 a success! Thank you for your continued support.\n\n&nbsp\;\n\n\
 n\nDonations can be made online at https://www.coastfork.org/donate/ or ch
 ecks can be mailed to our office at 28 S 6th Street\, Suite A\, Cottage Gr
 ove\, OR 97424.\n&nbsp\;\n\n\n\n\n\nFor any questions please call Amanda G
 ilbert\, Executive Director at 541-767-9717.\n
ATTACH;FMTTYPE=image/jpeg:https://www.coastfork.org/wp-content/uploads/202
 0/10/Green-Tree-Cutout-Fun-Run-Fundraiser-Flyer-scaled.jpg
CATEGORIES:Announcements
END:VEVENT
END:VCALENDAR