BEGIN:VCALENDAR
VERSION:2.0
PRODID:-//wp-events-plugin.com//7.2.3.1//EN
TZID:America/Los_Angeles
X-WR-TIMEZONE:America/Los_Angeles
BEGIN:VEVENT
UID:14@coastfork.org
DTSTART:20191206T180000Z
DTEND:20191206T220000Z
DTSTAMP:20190822T174923Z
URL:https://www.coastfork.org/events/2019-winter-watershed-soiree/
SUMMARY:2019 Winter Watershed Soiree
DESCRIPTION:Join us in celebrating our watershed! This year the Winter Wate
 rshed Soirée will take place at the Cottage Grove Armory and feature live
  music\, local food\, libations\, awards and a silent auction. Ticket pric
 e ($30 members/$40 non-members) includes entry to the event\, buffet-style
  dinner\, dessert and 2 drink tickets (beer and cider). Cocktail attire su
 ggested.\n\nTickets can be purchased at: https://events.ticketprinting.co
 m/event/2019-Winter-Watershed-Soiree-34775\n\nFor more information please 
 contact our office (541) 767-9717.
ATTACH;FMTTYPE=image/jpeg:https://www.coastfork.org/wp-content/uploads/201
 9/01/cfwwc004-soiree-savedate-01lr.jpg
LOCATION:Cottage Grove Armory\, 628 E Washington Ave\, Cottage Grove\, OR\,
  97424\, United States
GEO:43.7966677;-123.0613315
X-APPLE-STRUCTURED-LOCATION;VALUE=URI;X-ADDRESS=628 E Washington Ave\, Cott
 age Grove\, OR\, 97424\, United States;X-APPLE-RADIUS=100;X-TITLE=Cottage 
 Grove Armory:geo:43.7966677,-123.0613315
END:VEVENT
END:VCALENDAR